BEGIN:VCALENDAR
VERSION:2.0
PRODID:-//So Cal APCO - ECPv6.15.20//NONSGML v1.0//EN
CALSCALE:GREGORIAN
METHOD:PUBLISH
X-ORIGINAL-URL:https://socalapco.org
X-WR-CALDESC:Events for So Cal APCO
REFRESH-INTERVAL;VALUE=DURATION:PT1H
X-Robots-Tag:noindex
X-PUBLISHED-TTL:PT1H
BEGIN:VTIMEZONE
TZID:America/Los_Angeles
BEGIN:DAYLIGHT
TZOFFSETFROM:-0800
TZOFFSETTO:-0700
TZNAME:PDT
DTSTART:20240310T100000
END:DAYLIGHT
BEGIN:STANDARD
TZOFFSETFROM:-0700
TZOFFSETTO:-0800
TZNAME:PST
DTSTART:20241103T090000
END:STANDARD
BEGIN:DAYLIGHT
TZOFFSETFROM:-0800
TZOFFSETTO:-0700
TZNAME:PDT
DTSTART:20250309T100000
END:DAYLIGHT
BEGIN:STANDARD
TZOFFSETFROM:-0700
TZOFFSETTO:-0800
TZNAME:PST
DTSTART:20251102T090000
END:STANDARD
BEGIN:DAYLIGHT
TZOFFSETFROM:-0800
TZOFFSETTO:-0700
TZNAME:PDT
DTSTART:20260308T100000
END:DAYLIGHT
BEGIN:STANDARD
TZOFFSETFROM:-0700
TZOFFSETTO:-0800
TZNAME:PST
DTSTART:20261101T090000
END:STANDARD
BEGIN:DAYLIGHT
TZOFFSETFROM:-0800
TZOFFSETTO:-0700
TZNAME:PDT
DTSTART:20270314T100000
END:DAYLIGHT
BEGIN:STANDARD
TZOFFSETFROM:-0700
TZOFFSETTO:-0800
TZNAME:PST
DTSTART:20271107T090000
END:STANDARD
END:VTIMEZONE
BEGIN:VEVENT
DTSTART;TZID=America/Los_Angeles:20260107T080000
DTEND;TZID=America/Los_Angeles:20260107T150000
DTSTAMP:20260420T001138
CREATED:20251106T213614Z
LAST-MODIFIED:20251106T215118Z
UID:11508-1767772800-1767798000@socalapco.org
SUMMARY:SoCal APCO Executive Committee Quarterly Workshop - San Diego\, CA
DESCRIPTION:Town & Country Resort and Convention Center \n 
URL:https://socalapco.org/event/january-socal-apco-quarterly-workshop-silverado-ca/
LOCATION:Town and Country Resort Hotel & Convention Center\, 500 Hotel Cir N.\, San Diego\, CA\, 92108\, United States
CATEGORIES:Monthly Meetings
END:VEVENT
BEGIN:VEVENT
DTSTART;TZID=America/Los_Angeles:20251205T173000
DTEND;TZID=America/Los_Angeles:20251205T223000
DTSTAMP:20260420T001138
CREATED:20250924T231918Z
LAST-MODIFIED:20251126T202902Z
UID:10923-1764955800-1764973800@socalapco.org
SUMMARY:SoCal APCO Chapter Officer Installation Dinner - Anaheim\, CA
DESCRIPTION:Brewheim\, Anaheim\, CA \n \n  \nThank you to our Event Sponsors:
URL:https://socalapco.org/event/chapter-officer-installation-dinner/
LOCATION:Brewheim Anaheim\, 1931 E Wright Cir\, Anaheim\, CA\, 92806\, United States
CATEGORIES:Monthly Meetings
END:VEVENT
BEGIN:VEVENT
DTSTART;VALUE=DATE:20250930
DTEND;VALUE=DATE:20251003
DTSTAMP:20260420T001138
CREATED:20250924T150033Z
LAST-MODIFIED:20251106T220115Z
UID:10871-1759190400-1759449599@socalapco.org
SUMMARY:2025 CalAPCO State Training Conference & Expo - Sacramento\, CA
DESCRIPTION:SAFE Credit Union Convention Center\, Downtown Sacramento\, CA \n  \n  \n 
URL:https://socalapco.org/event/calapco-2025/
LOCATION:Sacramento Convention Center\, 1301 L St\, Sacramento\, California\, 95814
CATEGORIES:Conferences
END:VEVENT
END:VCALENDAR