BEGIN:VCALENDAR
VERSION:2.0
PRODID:-//So Cal APCO - ECPv6.15.20//NONSGML v1.0//EN
CALSCALE:GREGORIAN
METHOD:PUBLISH
X-ORIGINAL-URL:https://socalapco.org
X-WR-CALDESC:Events for So Cal APCO
REFRESH-INTERVAL;VALUE=DURATION:PT1H
X-Robots-Tag:noindex
X-PUBLISHED-TTL:PT1H
BEGIN:VTIMEZONE
TZID:America/Los_Angeles
BEGIN:DAYLIGHT
TZOFFSETFROM:-0800
TZOFFSETTO:-0700
TZNAME:PDT
DTSTART:20250309T100000
END:DAYLIGHT
BEGIN:STANDARD
TZOFFSETFROM:-0700
TZOFFSETTO:-0800
TZNAME:PST
DTSTART:20251102T090000
END:STANDARD
BEGIN:DAYLIGHT
TZOFFSETFROM:-0800
TZOFFSETTO:-0700
TZNAME:PDT
DTSTART:20260308T100000
END:DAYLIGHT
BEGIN:STANDARD
TZOFFSETFROM:-0700
TZOFFSETTO:-0800
TZNAME:PST
DTSTART:20261101T090000
END:STANDARD
BEGIN:DAYLIGHT
TZOFFSETFROM:-0800
TZOFFSETTO:-0700
TZNAME:PDT
DTSTART:20270314T100000
END:DAYLIGHT
BEGIN:STANDARD
TZOFFSETFROM:-0700
TZOFFSETTO:-0800
TZNAME:PST
DTSTART:20271107T090000
END:STANDARD
END:VTIMEZONE
BEGIN:VEVENT
DTSTART;VALUE=DATE:20260802
DTEND;VALUE=DATE:20260806
DTSTAMP:20260420T003620
CREATED:20250925T031252Z
LAST-MODIFIED:20260219T170135Z
UID:10956-1785628800-1785974399@socalapco.org
SUMMARY:2026 APCO International Conference & Exposition - San Antonio\, TX
DESCRIPTION:
URL:https://socalapco.org/event/apco-international-annual-conference-san-antonia-tx/
LOCATION:Henry B. Gonzalez Convention Center\, 900 E. Market St.\, San Antonio\, TX\, 78205\, United States
CATEGORIES:Conferences
END:VEVENT
BEGIN:VEVENT
DTSTART;VALUE=DATE:20260812
DTEND;VALUE=DATE:20260815
DTSTAMP:20260420T003620
CREATED:20250925T034135Z
LAST-MODIFIED:20260219T170243Z
UID:10976-1786492800-1786751999@socalapco.org
SUMMARY:2026 IAFC Fire-Rescue International Annual Conference - Kansas City\, MO
DESCRIPTION:
URL:https://socalapco.org/event/2026-iafc-fire-rescue-international-annual-conference-kansas-city-mo/
LOCATION:Kansas City Convention Center\, 301 W. 13th St. #100\, Kansas City\, MO\, 64105\, United States
CATEGORIES:Conferences
END:VEVENT
BEGIN:VEVENT
DTSTART;TZID=America/Los_Angeles:20260820T100000
DTEND;TZID=America/Los_Angeles:20260820T140000
DTSTAMP:20260420T003620
CREATED:20251106T215510Z
LAST-MODIFIED:20260309T203406Z
UID:11527-1787220000-1787234400@socalapco.org
SUMMARY:August SoCal APCO Chapter Meeting - Murrieta\, CA
DESCRIPTION:Thank You to our Meeting Sponsor: GUGLI  \n 
URL:https://socalapco.org/event/august-socal-apco-chapter-meeting-tba/
LOCATION:Murrieta Police Department\, 2 Town Square\, Murrieta\, CA\, 92562\, United States
CATEGORIES:Monthly Meetings
END:VEVENT
END:VCALENDAR