BEGIN:VCALENDAR
VERSION:2.0
PRODID:-//So Cal APCO - ECPv6.15.20//NONSGML v1.0//EN
CALSCALE:GREGORIAN
METHOD:PUBLISH
X-ORIGINAL-URL:https://socalapco.org
X-WR-CALDESC:Events for So Cal APCO
REFRESH-INTERVAL;VALUE=DURATION:PT1H
X-Robots-Tag:noindex
X-PUBLISHED-TTL:PT1H
BEGIN:VTIMEZONE
TZID:America/Los_Angeles
BEGIN:DAYLIGHT
TZOFFSETFROM:-0800
TZOFFSETTO:-0700
TZNAME:PDT
DTSTART:20250309T100000
END:DAYLIGHT
BEGIN:STANDARD
TZOFFSETFROM:-0700
TZOFFSETTO:-0800
TZNAME:PST
DTSTART:20251102T090000
END:STANDARD
BEGIN:DAYLIGHT
TZOFFSETFROM:-0800
TZOFFSETTO:-0700
TZNAME:PDT
DTSTART:20260308T100000
END:DAYLIGHT
BEGIN:STANDARD
TZOFFSETFROM:-0700
TZOFFSETTO:-0800
TZNAME:PST
DTSTART:20261101T090000
END:STANDARD
BEGIN:DAYLIGHT
TZOFFSETFROM:-0800
TZOFFSETTO:-0700
TZNAME:PDT
DTSTART:20270314T100000
END:DAYLIGHT
BEGIN:STANDARD
TZOFFSETFROM:-0700
TZOFFSETTO:-0800
TZNAME:PST
DTSTART:20271107T090000
END:STANDARD
END:VTIMEZONE
BEGIN:VEVENT
DTSTART;TZID=America/Los_Angeles:20260107T080000
DTEND;TZID=America/Los_Angeles:20260107T150000
DTSTAMP:20260419T231747
CREATED:20251106T213614Z
LAST-MODIFIED:20251106T215118Z
UID:11508-1767772800-1767798000@socalapco.org
SUMMARY:SoCal APCO Executive Committee Quarterly Workshop - San Diego\, CA
DESCRIPTION:Town & Country Resort and Convention Center \n 
URL:https://socalapco.org/event/january-socal-apco-quarterly-workshop-silverado-ca/
LOCATION:Town and Country Resort Hotel & Convention Center\, 500 Hotel Cir N.\, San Diego\, CA\, 92108\, United States
CATEGORIES:Monthly Meetings
END:VEVENT
BEGIN:VEVENT
DTSTART;TZID=America/Los_Angeles:20260115T100000
DTEND;TZID=America/Los_Angeles:20260115T140000
DTSTAMP:20260419T231747
CREATED:20251106T212926Z
LAST-MODIFIED:20260114T215231Z
UID:11501-1768471200-1768485600@socalapco.org
SUMMARY:January SoCal APCO Chapter Meeting - Buena Park CA
DESCRIPTION:Buena Park Police Department \n 
URL:https://socalapco.org/event/socal-apco-chapter-meeting-buena-park-ca/
LOCATION:Buena Park Police Department\, 6640 Beach Blvd\, Buena Park\, CA\, 90622\, United States
CATEGORIES:Monthly Meetings
END:VEVENT
END:VCALENDAR