BEGIN:VCALENDAR
VERSION:2.0
PRODID:-//So Cal APCO - ECPv6.15.20//NONSGML v1.0//EN
CALSCALE:GREGORIAN
METHOD:PUBLISH
X-ORIGINAL-URL:https://socalapco.org
X-WR-CALDESC:Events for So Cal APCO
REFRESH-INTERVAL;VALUE=DURATION:PT1H
X-Robots-Tag:noindex
X-PUBLISHED-TTL:PT1H
BEGIN:VTIMEZONE
TZID:America/Los_Angeles
BEGIN:DAYLIGHT
TZOFFSETFROM:-0800
TZOFFSETTO:-0700
TZNAME:PDT
DTSTART:20250309T100000
END:DAYLIGHT
BEGIN:STANDARD
TZOFFSETFROM:-0700
TZOFFSETTO:-0800
TZNAME:PST
DTSTART:20251102T090000
END:STANDARD
BEGIN:DAYLIGHT
TZOFFSETFROM:-0800
TZOFFSETTO:-0700
TZNAME:PDT
DTSTART:20260308T100000
END:DAYLIGHT
BEGIN:STANDARD
TZOFFSETFROM:-0700
TZOFFSETTO:-0800
TZNAME:PST
DTSTART:20261101T090000
END:STANDARD
BEGIN:DAYLIGHT
TZOFFSETFROM:-0800
TZOFFSETTO:-0700
TZNAME:PDT
DTSTART:20270314T100000
END:DAYLIGHT
BEGIN:STANDARD
TZOFFSETFROM:-0700
TZOFFSETTO:-0800
TZNAME:PST
DTSTART:20271107T090000
END:STANDARD
END:VTIMEZONE
BEGIN:VEVENT
DTSTART;TZID=America/Los_Angeles:20260521T100000
DTEND;TZID=America/Los_Angeles:20260521T140000
DTSTAMP:20260419T220558
CREATED:20251106T214718Z
LAST-MODIFIED:20260318T184405Z
UID:11519-1779357600-1779372000@socalapco.org
SUMMARY:May SoCal APCO Chapter Meeting - Los Angeles\, CA
DESCRIPTION:  \nThank You to our Meeting Sponsor:  Mission Critical Partners
URL:https://socalapco.org/event/may-socal-apco-chapter-meeting-silverado-ca/
LOCATION:LA Center Studios Los Angeles\, 450 S Bixel St\, Los Angeles\, CA\, 90017\, United States
CATEGORIES:Monthly Meetings
END:VEVENT
BEGIN:VEVENT
DTSTART;TZID=America/Los_Angeles:20260618T100000
DTEND;TZID=America/Los_Angeles:20260618T140000
DTSTAMP:20260419T220558
CREATED:20251106T214926Z
LAST-MODIFIED:20260321T004504Z
UID:11521-1781776800-1781791200@socalapco.org
SUMMARY:June SoCal APCO Chapter Meeting - Tustin\, CA
DESCRIPTION:Thank you to our Chapter Meeting sponsor: Aurelian \n \n 
URL:https://socalapco.org/event/june-socal-apco-chapter-meeting-tba/
LOCATION:Orange County Sheriff Technology Center\, 1382 Bell Ave\, Tustin\, CA\, 92780\, United States
CATEGORIES:Monthly Meetings
END:VEVENT
BEGIN:VEVENT
DTSTART;TZID=America/Los_Angeles:20260701T090000
DTEND;TZID=America/Los_Angeles:20260701T140000
DTSTAMP:20260419T220558
CREATED:20251106T223713Z
LAST-MODIFIED:20260227T010433Z
UID:11554-1782896400-1782914400@socalapco.org
SUMMARY:SoCal APCO Executive Committee Quarterly Workshop
DESCRIPTION:
URL:https://socalapco.org/event/socal-apco-executive-committee-quarterly-workshop-tba/
LOCATION:Hidden Hills City Hall\, 6165 Spring Valley Road\, Hidden Hills\, CA\, 91302\, United States
CATEGORIES:Monthly Meetings
END:VEVENT
BEGIN:VEVENT
DTSTART;TZID=America/Los_Angeles:20260716T100000
DTEND;TZID=America/Los_Angeles:20260716T140000
DTSTAMP:20260419T220558
CREATED:20251106T215329Z
LAST-MODIFIED:20260309T203313Z
UID:11525-1784196000-1784210400@socalapco.org
SUMMARY:July SoCal APCO Chapter Meeting- Santa Barbara\, CA
DESCRIPTION:Thank You to our Meeting Sponsor:  Aurelian     | \n \n  \nKeynote Speaker:  Kris Inman\, Director of Program Development for The Healthy Dispatcher
URL:https://socalapco.org/event/july-socal-apco-chapter-meeting-murrieta-ca/
LOCATION:University of California Santa Barbara\, 574 Mesa Rd\, Goleta\, CA\, 93117\, United States
CATEGORIES:Monthly Meetings
END:VEVENT
BEGIN:VEVENT
DTSTART;TZID=America/Los_Angeles:20260820T100000
DTEND;TZID=America/Los_Angeles:20260820T140000
DTSTAMP:20260419T220558
CREATED:20251106T215510Z
LAST-MODIFIED:20260309T203406Z
UID:11527-1787220000-1787234400@socalapco.org
SUMMARY:August SoCal APCO Chapter Meeting - Murrieta\, CA
DESCRIPTION:Thank You to our Meeting Sponsor: GUGLI  \n 
URL:https://socalapco.org/event/august-socal-apco-chapter-meeting-tba/
LOCATION:Murrieta Police Department\, 2 Town Square\, Murrieta\, CA\, 92562\, United States
CATEGORIES:Monthly Meetings
END:VEVENT
BEGIN:VEVENT
DTSTART;TZID=America/Los_Angeles:20260917T100000
DTEND;TZID=America/Los_Angeles:20260917T140000
DTSTAMP:20260419T220558
CREATED:20251106T215636Z
LAST-MODIFIED:20260321T004555Z
UID:11529-1789639200-1789653600@socalapco.org
SUMMARY:September SoCal APCO Chapter Meeting - Riverside\, CA
DESCRIPTION:Thank You to our Meeting Sponsor:  NEOGOV \n  \n \n 
URL:https://socalapco.org/event/september-socal-apco-chapter-meeting-tba/
LOCATION:Riverside Police Department\, 10540 Magnolia Ave\, Riverside\, CA\, 92505\, United States
CATEGORIES:Monthly Meetings
END:VEVENT
BEGIN:VEVENT
DTSTART;TZID=America/Los_Angeles:20261104T090000
DTEND;TZID=America/Los_Angeles:20261104T140000
DTSTAMP:20260419T220558
CREATED:20251106T223838Z
LAST-MODIFIED:20260221T225528Z
UID:11556-1793782800-1793800800@socalapco.org
SUMMARY:SoCal APCO Executive Committee Quarterly Workshop
DESCRIPTION:Location to be Announced
URL:https://socalapco.org/event/socal-apco-executive-committee-quarterly-workshop-tba-2/
CATEGORIES:Monthly Meetings
END:VEVENT
BEGIN:VEVENT
DTSTART;TZID=America/Los_Angeles:20261119T100000
DTEND;TZID=America/Los_Angeles:20261119T140000
DTSTAMP:20260419T220558
CREATED:20251106T215824Z
LAST-MODIFIED:20260225T190403Z
UID:11531-1795082400-1795096800@socalapco.org
SUMMARY:November SoCal APCO Chapter Meeting - Torrance\, CA
DESCRIPTION:Thank You to our Meeting Sponsor:  GovWorx \n 
URL:https://socalapco.org/event/november-socal-apco-chapter-meeting-tba/
LOCATION:Torrance Police Department\, 3300 Civic Center Dr N\, Torrance\, CA\, 90503\, United States
CATEGORIES:Monthly Meetings
END:VEVENT
BEGIN:VEVENT
DTSTART;TZID=America/Los_Angeles:20261204T180000
DTEND;TZID=America/Los_Angeles:20261204T220000
DTSTAMP:20260419T220558
CREATED:20251106T220004Z
LAST-MODIFIED:20260221T221745Z
UID:11533-1796407200-1796421600@socalapco.org
SUMMARY:SoCal APCO Chapter Officer Installation Dinner - Anaheim\, CA
DESCRIPTION:  \n  \n 
URL:https://socalapco.org/event/socal-apco-chapter-officer-installation-dinner-tba/
LOCATION:Brewheim Anaheim\, 1931 E Wright Cir\, Anaheim\, CA\, 92806\, United States
CATEGORIES:Monthly Meetings
END:VEVENT
END:VCALENDAR