BEGIN:VCALENDAR
VERSION:2.0
PRODID:-//So Cal APCO - ECPv6.15.20//NONSGML v1.0//EN
CALSCALE:GREGORIAN
METHOD:PUBLISH
X-WR-CALNAME:So Cal APCO
X-ORIGINAL-URL:https://socalapco.org
X-WR-CALDESC:Events for So Cal APCO
REFRESH-INTERVAL;VALUE=DURATION:PT1H
X-Robots-Tag:noindex
X-PUBLISHED-TTL:PT1H
BEGIN:VTIMEZONE
TZID:America/Los_Angeles
BEGIN:DAYLIGHT
TZOFFSETFROM:-0800
TZOFFSETTO:-0700
TZNAME:PDT
DTSTART:20240310T100000
END:DAYLIGHT
BEGIN:STANDARD
TZOFFSETFROM:-0700
TZOFFSETTO:-0800
TZNAME:PST
DTSTART:20241103T090000
END:STANDARD
BEGIN:DAYLIGHT
TZOFFSETFROM:-0800
TZOFFSETTO:-0700
TZNAME:PDT
DTSTART:20250309T100000
END:DAYLIGHT
BEGIN:STANDARD
TZOFFSETFROM:-0700
TZOFFSETTO:-0800
TZNAME:PST
DTSTART:20251102T090000
END:STANDARD
BEGIN:DAYLIGHT
TZOFFSETFROM:-0800
TZOFFSETTO:-0700
TZNAME:PDT
DTSTART:20260308T100000
END:DAYLIGHT
BEGIN:STANDARD
TZOFFSETFROM:-0700
TZOFFSETTO:-0800
TZNAME:PST
DTSTART:20261101T090000
END:STANDARD
BEGIN:DAYLIGHT
TZOFFSETFROM:-0800
TZOFFSETTO:-0700
TZNAME:PDT
DTSTART:20270314T100000
END:DAYLIGHT
BEGIN:STANDARD
TZOFFSETFROM:-0700
TZOFFSETTO:-0800
TZNAME:PST
DTSTART:20271107T090000
END:STANDARD
END:VTIMEZONE
BEGIN:VEVENT
DTSTART;VALUE=DATE:20260406
DTEND;VALUE=DATE:20260410
DTSTAMP:20260419T231244
CREATED:20250925T033602Z
LAST-MODIFIED:20260223T214000Z
UID:10972-1775433600-1775779199@socalapco.org
SUMMARY:2026 APCO Western Regional Conference - Phoenix\, AZ
DESCRIPTION: 
URL:https://socalapco.org/event/2026-apco-western-regional-conference-phoenix-az/
LOCATION:Sheraton Phoenix Downtown\, 340 N 3rd St\, Phoenix\, AZ\, 85004\, United States
CATEGORIES:Conferences
END:VEVENT
BEGIN:VEVENT
DTSTART;VALUE=DATE:20260316
DTEND;VALUE=DATE:20260320
DTSTAMP:20260419T231245
CREATED:20251106T221443Z
LAST-MODIFIED:20260223T212845Z
UID:11540-1773619200-1773964799@socalapco.org
SUMMARY:2026 IWCE International Wireless Expo - Las Vegas\, NV
DESCRIPTION:West Hall \n \n 
URL:https://socalapco.org/event/2026-iwce-international-wireless-expo/
LOCATION:Las Vegas Convention Center\, 3150 Paradise Rd\, Las Vegas\, NV\, 89109\, United States
CATEGORIES:Conferences
END:VEVENT
BEGIN:VEVENT
DTSTART;VALUE=DATE:20260302
DTEND;VALUE=DATE:20260305
DTSTAMP:20260419T231245
CREATED:20250925T033257Z
LAST-MODIFIED:20260223T213039Z
UID:10970-1772409600-1772668799@socalapco.org
SUMMARY:2026 CalNENA Conference - Los Angeles\, CA
DESCRIPTION:
URL:https://socalapco.org/event/2026-calnena-conference-los-angeles-ca/
LOCATION:LAX Airport Marriott\, 5855 W Century Blvd\, Los Angeles\, CA\, 90045\, United States
CATEGORIES:Conferences
END:VEVENT
BEGIN:VEVENT
DTSTART;VALUE=DATE:20250930
DTEND;VALUE=DATE:20251003
DTSTAMP:20260419T231245
CREATED:20250924T150033Z
LAST-MODIFIED:20251106T220115Z
UID:10871-1759190400-1759449599@socalapco.org
SUMMARY:2025 CalAPCO State Training Conference & Expo - Sacramento\, CA
DESCRIPTION:SAFE Credit Union Convention Center\, Downtown Sacramento\, CA \n  \n  \n 
URL:https://socalapco.org/event/calapco-2025/
LOCATION:Sacramento Convention Center\, 1301 L St\, Sacramento\, California\, 95814
CATEGORIES:Conferences
END:VEVENT
END:VCALENDAR