BEGIN:VCALENDAR
VERSION:2.0
PRODID:-//So Cal APCO - ECPv6.15.20//NONSGML v1.0//EN
CALSCALE:GREGORIAN
METHOD:PUBLISH
X-WR-CALNAME:So Cal APCO
X-ORIGINAL-URL:https://socalapco.org
X-WR-CALDESC:Events for So Cal APCO
REFRESH-INTERVAL;VALUE=DURATION:PT1H
X-Robots-Tag:noindex
X-PUBLISHED-TTL:PT1H
BEGIN:VTIMEZONE
TZID:America/Los_Angeles
BEGIN:DAYLIGHT
TZOFFSETFROM:-0800
TZOFFSETTO:-0700
TZNAME:PDT
DTSTART:20250309T100000
END:DAYLIGHT
BEGIN:STANDARD
TZOFFSETFROM:-0700
TZOFFSETTO:-0800
TZNAME:PST
DTSTART:20251102T090000
END:STANDARD
BEGIN:DAYLIGHT
TZOFFSETFROM:-0800
TZOFFSETTO:-0700
TZNAME:PDT
DTSTART:20260308T100000
END:DAYLIGHT
BEGIN:STANDARD
TZOFFSETFROM:-0700
TZOFFSETTO:-0800
TZNAME:PST
DTSTART:20261101T090000
END:STANDARD
BEGIN:DAYLIGHT
TZOFFSETFROM:-0800
TZOFFSETTO:-0700
TZNAME:PDT
DTSTART:20270314T100000
END:DAYLIGHT
BEGIN:STANDARD
TZOFFSETFROM:-0700
TZOFFSETTO:-0800
TZNAME:PST
DTSTART:20271107T090000
END:STANDARD
END:VTIMEZONE
BEGIN:VEVENT
DTSTART;VALUE=DATE:20260909
DTEND;VALUE=DATE:20260912
DTSTAMP:20260420T070559
CREATED:20251106T222703Z
LAST-MODIFIED:20260219T170500Z
UID:11546-1788912000-1789171199@socalapco.org
SUMMARY:Women Leaders in Law Enforcement (WLLE) Symposium - San Diego\, CA
DESCRIPTION:
URL:https://socalapco.org/event/women-leaders-in-law-enforcement-wlle-symposium-san-diego-ca/
LOCATION:Town and Country Resort Hotel & Convention Center\, 500 Hotel Cir N.\, San Diego\, CA\, 92108\, United States
CATEGORIES:Conferences
END:VEVENT
BEGIN:VEVENT
DTSTART;VALUE=DATE:20260915
DTEND;VALUE=DATE:20260919
DTSTAMP:20260420T070559
CREATED:20251106T221821Z
LAST-MODIFIED:20260219T171738Z
UID:11542-1789430400-1789775999@socalapco.org
SUMMARY:California CLETS Users Group Conference - Sonoma\, CA
DESCRIPTION:
URL:https://socalapco.org/event/california-clets-users-group-conference-sonoma-ca/
LOCATION:Double Tree Sonoma Wine Country\, One Doubletree Drive Park\, Rohnert Park\, CA\, 94928\, United States
CATEGORIES:Conferences
END:VEVENT
END:VCALENDAR